BEGIN:VCALENDAR
VERSION:2.0
PRODID:-//BEER PAPER - ECPv6.15.20//NONSGML v1.0//EN
CALSCALE:GREGORIAN
METHOD:PUBLISH
X-ORIGINAL-URL:https://beerpaperla.com
X-WR-CALDESC:Events for BEER PAPER
REFRESH-INTERVAL;VALUE=DURATION:PT1H
X-Robots-Tag:noindex
X-PUBLISHED-TTL:PT1H
BEGIN:VTIMEZONE
TZID:America/Los_Angeles
BEGIN:DAYLIGHT
TZOFFSETFROM:-0800
TZOFFSETTO:-0700
TZNAME:PDT
DTSTART:20190310T100000
END:DAYLIGHT
BEGIN:STANDARD
TZOFFSETFROM:-0700
TZOFFSETTO:-0800
TZNAME:PST
DTSTART:20191103T090000
END:STANDARD
BEGIN:DAYLIGHT
TZOFFSETFROM:-0800
TZOFFSETTO:-0700
TZNAME:PDT
DTSTART:20200308T100000
END:DAYLIGHT
BEGIN:STANDARD
TZOFFSETFROM:-0700
TZOFFSETTO:-0800
TZNAME:PST
DTSTART:20201101T090000
END:STANDARD
BEGIN:DAYLIGHT
TZOFFSETFROM:-0800
TZOFFSETTO:-0700
TZNAME:PDT
DTSTART:20210314T100000
END:DAYLIGHT
BEGIN:STANDARD
TZOFFSETFROM:-0700
TZOFFSETTO:-0800
TZNAME:PST
DTSTART:20211107T090000
END:STANDARD
BEGIN:DAYLIGHT
TZOFFSETFROM:-0800
TZOFFSETTO:-0700
TZNAME:PDT
DTSTART:20220313T100000
END:DAYLIGHT
BEGIN:STANDARD
TZOFFSETFROM:-0700
TZOFFSETTO:-0800
TZNAME:PST
DTSTART:20221106T090000
END:STANDARD
BEGIN:DAYLIGHT
TZOFFSETFROM:-0800
TZOFFSETTO:-0700
TZNAME:PDT
DTSTART:20230312T100000
END:DAYLIGHT
BEGIN:STANDARD
TZOFFSETFROM:-0700
TZOFFSETTO:-0800
TZNAME:PST
DTSTART:20231105T090000
END:STANDARD
BEGIN:DAYLIGHT
TZOFFSETFROM:-0800
TZOFFSETTO:-0700
TZNAME:PDT
DTSTART:20240310T100000
END:DAYLIGHT
BEGIN:STANDARD
TZOFFSETFROM:-0700
TZOFFSETTO:-0800
TZNAME:PST
DTSTART:20241103T090000
END:STANDARD
END:VTIMEZONE
BEGIN:VEVENT
DTSTART;TZID=America/Los_Angeles:20230422T120000
DTEND;TZID=America/Los_Angeles:20230422T170000
DTSTAMP:20260423T064508
CREATED:20230330T054347Z
LAST-MODIFIED:20230330T054347Z
UID:6768-1682164800-1682182800@beerpaperla.com
SUMMARY:Brewabilities
DESCRIPTION:
URL:https://beerpaperla.com/event/brewabilities/
LOCATION:McCoy Equestrian Center\, 14280 Peyton Dr\, Chino Hills\, CA 91709
END:VEVENT
BEGIN:VEVENT
DTSTART;TZID=America/Los_Angeles:20200223T100000
DTEND;TZID=America/Los_Angeles:20200223T130000
DTSTAMP:20260423T064508
CREATED:20200211T232222Z
LAST-MODIFIED:20200211T232222Z
UID:272-1582452000-1582462800@beerpaperla.com
SUMMARY:Brunch with Pliny the Younger
DESCRIPTION:
URL:https://beerpaperla.com/event/brunch-with-pliny-the-younger-2/
LOCATION:Haven craft kitchen + bar\, 190 S. Glassel St.\, Orange\, CA\, 92866\, United States
ATTACH;FMTTYPE=image/jpeg:https://beerpaperla.com/wp-content/uploads/haven-pliny.jpg
END:VEVENT
BEGIN:VEVENT
DTSTART;TZID=America/Los_Angeles:20200222T100000
DTEND;TZID=America/Los_Angeles:20200222T130000
DTSTAMP:20260423T064508
CREATED:20200211T225520Z
LAST-MODIFIED:20200211T225520Z
UID:267-1582365600-1582376400@beerpaperla.com
SUMMARY:Brunch with Pliny the Younger
DESCRIPTION:
URL:https://beerpaperla.com/event/brunch-with-pliny-the-younger/
LOCATION:Haven craft kitchen + bar\, 190 S. Glassel St.\, Orange\, CA\, 92866\, United States
ATTACH;FMTTYPE=image/jpeg:https://beerpaperla.com/wp-content/uploads/haven-pliny.jpg
END:VEVENT
END:VCALENDAR